BEGIN:VCALENDAR
VERSION:2.0
PRODID:-//AudioTheme 1.8.0
BEGIN:VEVENT
UID:http://djsps.net/?post_type=audiotheme_gig&#038;p=2645
URL:http://djsps.net/shows/world-cafe-live-2/
DTSTART;TZID=GMT:20240406T000000
SUMMARY:World Cafe Live
DESCRIPTION:DJ SPS\, Black Violin
LOCATION:World Cafe Live\, 3025 Walnut Street\, Philadelphia\, Pennsylvania\, 19104
END:VEVENT
END:VCALENDAR