BEGIN:VCALENDAR
VERSION:2.0
PRODID:-//AudioTheme 1.8.0
BEGIN:VEVENT
UID:http://djsps.net/?post_type=audiotheme_gig&#038;p=2659
URL:http://djsps.net/shows/wiggins-park/
DTSTART;TZID=GMT:20240611T000000
SUMMARY:Wiggins Park
DESCRIPTION:DJ SPS\, Black Violin
LOCATION:Wiggins Park\, Camden \, New Jersey
END:VEVENT
END:VCALENDAR