BEGIN:VCALENDAR
VERSION:2.0
PRODID:-//AudioTheme 1.8.0
BEGIN:VEVENT
UID:http://djsps.net/?post_type=audiotheme_gig&#038;p=2606
URL:http://djsps.net/shows/wheeler-opera-house/
DTSTART;TZID=GMT:20240203T010000
SUMMARY:Wheeler Opera House
DESCRIPTION:DJ SPS\, Black Violin 
LOCATION:Wheeler Opera House\, Aspen \, Colorado
END:VEVENT
END:VCALENDAR