BEGIN:VCALENDAR
VERSION:2.0
PRODID:-//AudioTheme 1.8.0
BEGIN:VEVENT
UID:http://djsps.net/?post_type=audiotheme_gig&#038;p=2600
URL:http://djsps.net/shows/webb-center/
DTSTART;TZID=GMT:20240128T010000
SUMMARY:Webb Center
DESCRIPTION:DJ SPS\, Black Violin
LOCATION:Webb Center\, Wickenburg\, Arizona
END:VEVENT
END:VCALENDAR