BEGIN:VCALENDAR
VERSION:2.0
PRODID:-//AudioTheme 1.8.0
BEGIN:VEVENT
UID:http://djsps.net/?post_type=audiotheme_gig&#038;p=2641
URL:http://djsps.net/shows/veterans-memorial-auditorium-2/
DTSTART;TZID=GMT:20240331T000000
SUMMARY:Veterans Memorial Auditorium
DESCRIPTION:DJ SPS\, Black Violin
LOCATION:Veterans Memorial Auditorium\, Providence \, Rhode Island
END:VEVENT
END:VCALENDAR