BEGIN:VCALENDAR
VERSION:2.0
PRODID:-//AudioTheme 1.8.0
BEGIN:VEVENT
UID:http://djsps.net/?post_type=audiotheme_gig&#038;p=2603
URL:http://djsps.net/shows/the-smith-center-for-the-performing-arts/
DTSTART;TZID=GMT:20240131T010000
SUMMARY:The Smith Center for the Performing Arts
DESCRIPTION:DJ SPS\, Black Violin
LOCATION:The Smith Center for the Performing Arts\, Las Vegas\, Nevada
END:VEVENT
END:VCALENDAR