BEGIN:VCALENDAR
VERSION:2.0
PRODID:-//AudioTheme 1.8.0
BEGIN:VEVENT
UID:http://djsps.net/?post_type=audiotheme_gig&#038;p=2598
URL:http://djsps.net/shows/the-rialto-theatre/
DTSTART;TZID=GMT:20240127T003000
SUMMARY:The Rialto Theatre
DESCRIPTION:DJ SPS\, Black Violin
LOCATION:The Rialto Theatre\, Tucson\, Arizona
END:VEVENT
END:VCALENDAR