BEGIN:VCALENDAR
VERSION:2.0
PRODID:-//AudioTheme 1.8.0
BEGIN:VEVENT
UID:http://djsps.net/?post_type=audiotheme_gig&#038;p=2625
URL:http://djsps.net/shows/the-long-center-for-the-performing-arts-5/
DTSTART;TZID=GMT:20240220T010000
SUMMARY:The Long Center for the Performing Arts
DESCRIPTION:DJ SPS\, Black Violin
LOCATION:The Long Center for the Performing Arts\, Austin \, Texas
END:VEVENT
END:VCALENDAR