BEGIN:VCALENDAR
VERSION:2.0
PRODID:-//AudioTheme 1.8.0
BEGIN:VEVENT
UID:http://djsps.net/?post_type=audiotheme_gig&#038;p=2646
URL:http://djsps.net/shows/the-grand-opera-house/
DTSTART;TZID=GMT:20240407T000000
SUMMARY:The Grand Opera House
DESCRIPTION:DJ SPS\, Black Violin
LOCATION:The Grand Opera House\, Wilmington \, Delaware
END:VEVENT
END:VCALENDAR