BEGIN:VCALENDAR
VERSION:2.0
PRODID:-//AudioTheme 1.8.0
BEGIN:VEVENT
UID:http://djsps.net/?post_type=audiotheme_gig&#038;p=2638
URL:http://djsps.net/shows/the-cabot/
DTSTART;TZID=GMT:20240329T000000
SUMMARY:The Cabot
DESCRIPTION:DJ SPS\, Black Violin
LOCATION:The Cabot\, Beverly \, Massachusetts
END:VEVENT
END:VCALENDAR