BEGIN:VCALENDAR
VERSION:2.0
PRODID:-//AudioTheme 1.8.0
BEGIN:VEVENT
UID:http://djsps.net/?post_type=audiotheme_gig&#038;p=2569
URL:http://djsps.net/shows/tba/
DTSTART;TZID=GMT:20230903T233000
SUMMARY:TBA
DESCRIPTION:DJ SPS\, Black Violin
LOCATION:TBA\, Virginia Beach\, Virginia
END:VEVENT
END:VCALENDAR