BEGIN:VCALENDAR
VERSION:2.0
PRODID:-//AudioTheme 1.8.0
BEGIN:VEVENT
UID:http://djsps.net/?post_type=audiotheme_gig&#038;p=2654
URL:http://djsps.net/shows/summerfest-2/
DTSTART;TZID=GMT:20240622T000000
SUMMARY:Summerfest
DESCRIPTION:DJ SPS\, Black Violin
LOCATION:Summerfest\, Milwaukee\, Wisconsin
END:VEVENT
END:VCALENDAR