BEGIN:VCALENDAR
VERSION:2.0
PRODID:-//AudioTheme 1.8.0
BEGIN:VEVENT
UID:http://djsps.net/?post_type=audiotheme_gig&#038;p=2617
URL:http://djsps.net/shows/steelhouse/
DTSTART;TZID=GMT:20240214T010000
SUMMARY:Steelhouse
DESCRIPTION:DJ SPS\, Black Violin
LOCATION:Steelhouse\, Omaha\, Nebraska
END:VEVENT
END:VCALENDAR