BEGIN:VCALENDAR
VERSION:2.0
PRODID:-//AudioTheme 1.8.0
BEGIN:VEVENT
UID:http://djsps.net/?post_type=audiotheme_gig&#038;p=2616
URL:http://djsps.net/shows/state-theatre-2/
DTSTART;TZID=GMT:20240211T010000
SUMMARY:State Theatre
DESCRIPTION:DJ SPS\, Black Violin
LOCATION:State Theatre\, Minneapolis\, Minnesota
END:VEVENT
END:VCALENDAR