BEGIN:VCALENDAR
VERSION:2.0
PRODID:-//AudioTheme 1.8.0
BEGIN:VEVENT
UID:http://djsps.net/?post_type=audiotheme_gig&#038;p=2667
URL:http://djsps.net/shows/southwest-jazz-heritage-fest-rio-rancho/
DTSTART;TZID=GMT:20240812T000000
SUMMARY:Southwest Jazz & Heritage Fest Rio Rancho
DESCRIPTION:DJ SPS\, Black Violin
LOCATION:Southwest Jazz & Heritage Fest Rio Rancho\, Rio Rancho \, New Mexico
END:VEVENT
END:VCALENDAR