BEGIN:VCALENDAR
VERSION:2.0
PRODID:-//AudioTheme 1.8.0
BEGIN:VEVENT
UID:http://djsps.net/?post_type=audiotheme_gig&#038;p=2665
URL:http://djsps.net/shows/southwest-jazz-heritage-fest-phoenix/
DTSTART;TZID=GMT:20240811T000000
SUMMARY:Southwest Jazz & Heritage Fest  Phoenix
DESCRIPTION:DJ SPS\, Black Violin
LOCATION:Southwest Jazz & Heritage Fest Phoenix\, Phoenix\, Arizona
END:VEVENT
END:VCALENDAR