BEGIN:VCALENDAR
VERSION:2.0
PRODID:-//AudioTheme 1.8.0
BEGIN:VEVENT
UID:http://djsps.net/?post_type=audiotheme_gig&#038;p=2589
URL:http://djsps.net/shows/soundstage-at-graceland/
DTSTART;TZID=GMT:20231019T233000
SUMMARY:Soundstage at Graceland
DESCRIPTION:DJ SPS\, Black Violin
LOCATION:Soundstage at Graceland\, Memphis\, Tennessee
END:VEVENT
END:VCALENDAR