BEGIN:VCALENDAR
VERSION:2.0
PRODID:-//AudioTheme 1.8.0
BEGIN:VEVENT
UID:http://djsps.net/?post_type=audiotheme_gig&#038;p=2658
URL:http://djsps.net/shows/ridgefield-playhouse-2/
DTSTART;TZID=GMT:20240608T000000
SUMMARY:Ridgefield Playhouse
DESCRIPTION:DJ SPS\, Black Violin
LOCATION:Ridgefield Playhouse\, Ridgefield \, Connecticuit
END:VEVENT
END:VCALENDAR