BEGIN:VCALENDAR
VERSION:2.0
PRODID:-//AudioTheme 1.8.0
BEGIN:VEVENT
UID:http://djsps.net/?post_type=audiotheme_gig&#038;p=2628
URL:http://djsps.net/shows/rialto-square-theatre/
DTSTART;TZID=GMT:20240321T000000
SUMMARY:Rialto Square Theatre
DESCRIPTION:DJ SPS\, Black Violin
LOCATION:Rialto Square Theatre\, Joliet\, Illinois
END:VEVENT
END:VCALENDAR