BEGIN:VCALENDAR
VERSION:2.0
PRODID:-//AudioTheme 1.8.0
BEGIN:VEVENT
UID:http://djsps.net/?post_type=audiotheme_gig&#038;p=2608
URL:http://djsps.net/shows/pueblo-memorial-hall/
DTSTART;TZID=GMT:20240204T010000
SUMMARY:Pueblo Memorial Hall
DESCRIPTION:DJ SPS\, Black Violin
LOCATION:Pueblo Memorial Hall\, Pueblo\, Colorado
END:VEVENT
END:VCALENDAR