BEGIN:VCALENDAR
VERSION:2.0
PRODID:-//AudioTheme 1.8.0
BEGIN:VEVENT
UID:http://djsps.net/?post_type=audiotheme_gig&#038;p=2591
URL:http://djsps.net/shows/peoria-civic-center/
DTSTART;TZID=GMT:20231020T233000
SUMMARY:Peoria Civic Center
DESCRIPTION:DJ SPS\, Black Violin
LOCATION:Peoria Civic Center\, Peoria\, Illinois
END:VEVENT
END:VCALENDAR