BEGIN:VCALENDAR
VERSION:2.0
PRODID:-//AudioTheme 1.8.0
BEGIN:VEVENT
UID:http://djsps.net/?post_type=audiotheme_gig&#038;p=2610
URL:http://djsps.net/shows/paramount-theatre-8/
DTSTART;TZID=GMT:20240205T010000
SUMMARY:Paramount Theatre
DESCRIPTION:DJ SPS\, Black Violin
LOCATION:Paramount Theatre\, Denver\, Colorado
END:VEVENT
END:VCALENDAR