BEGIN:VCALENDAR
VERSION:2.0
PRODID:-//AudioTheme 1.8.0
BEGIN:VEVENT
UID:http://djsps.net/?post_type=audiotheme_gig&#038;p=2611
URL:http://djsps.net/shows/orpheum-theatre-5/
DTSTART;TZID=GMT:20240207T010000
SUMMARY:Orpheum Theatre
DESCRIPTION:DJ SPS\, Black Violin
END:VEVENT
END:VCALENDAR