BEGIN:VCALENDAR
VERSION:2.0
PRODID:-//AudioTheme 1.8.0
BEGIN:VEVENT
UID:http://djsps.net/?post_type=audiotheme_gig&#038;p=2661
URL:http://djsps.net/shows/orchestra-hall-at-detroit-symphony-orchestra/
DTSTART;TZID=GMT:20240616T000000
SUMMARY:Orchestra Hall at Detroit Symphony Orchestra
DESCRIPTION:DJ SPS\, Black Violin
LOCATION:Orchestra Hall at Detroit Symphony Orchestra\, Detroit\, Michigan
END:VEVENT
END:VCALENDAR