BEGIN:VCALENDAR
VERSION:2.0
PRODID:-//AudioTheme 1.8.0
BEGIN:VEVENT
UID:http://djsps.net/?post_type=audiotheme_gig&#038;p=2635
URL:http://djsps.net/shows/ohio-theatre-3/
DTSTART;TZID=GMT:20240325T000000
SUMMARY:Ohio Theatre
DESCRIPTION:DJ SPS\, Black Violin
LOCATION:Ohio Theatre\, Columbus\, Ohio
END:VEVENT
END:VCALENDAR