BEGIN:VCALENDAR
VERSION:2.0
PRODID:-//AudioTheme 1.8.0
BEGIN:VEVENT
UID:http://djsps.net/?post_type=audiotheme_gig&#038;p=2587
URL:http://djsps.net/shows/miller-auditorium-2/
DTSTART;TZID=GMT:20231017T233000
SUMMARY:Miller Auditorium
DESCRIPTION:DJ SPS\, Black Violin
LOCATION:Miller Auditorium\, Kalamazoo\, Michigan
END:VEVENT
END:VCALENDAR