BEGIN:VCALENDAR
VERSION:2.0
PRODID:-//AudioTheme 1.8.0
BEGIN:VEVENT
UID:http://djsps.net/?post_type=audiotheme_gig&#038;p=2651
URL:http://djsps.net/shows/merriweather-post-pavilion-capital-jazz-fest/
DTSTART;TZID=GMT:20240609T000000
SUMMARY:Merriweather Post Pavilion (Capital Jazz Fest)
DESCRIPTION:DJ SPS\, Black Violin
LOCATION:Merriweather Post Pavilion (Capital Jazz Fest)\, Columbia\, Maryland
END:VEVENT
END:VCALENDAR