BEGIN:VCALENDAR
VERSION:2.0
PRODID:-//AudioTheme 1.8.0
BEGIN:VEVENT
UID:http://djsps.net/?post_type=audiotheme_gig&#038;p=2595
URL:http://djsps.net/shows/mead-theatre/
DTSTART;TZID=GMT:20231024T233000
SUMMARY:Mead Theatre
DESCRIPTION:DJ SPS\, Black Violin
LOCATION:Mead Theatre\, Dayton\, Ohio
END:VEVENT
END:VCALENDAR