BEGIN:VCALENDAR
VERSION:2.0
PRODID:-//AudioTheme 1.8.0
BEGIN:VEVENT
UID:http://djsps.net/?post_type=audiotheme_gig&#038;p=2614
URL:http://djsps.net/shows/marcus-performing-arts-center/
DTSTART;TZID=GMT:20240210T010000
SUMMARY:Marcus Performing Arts Center
DESCRIPTION:DJ SPS\, Black Violin
LOCATION:Marcus Performing Arts Center\, Milwaukee\, Wisconsin
END:VEVENT
END:VCALENDAR