BEGIN:VCALENDAR
VERSION:2.0
PRODID:-//AudioTheme 1.8.0
BEGIN:VEVENT
UID:http://djsps.net/?post_type=audiotheme_gig&#038;p=2623
URL:http://djsps.net/shows/majestic-theatre/
DTSTART;TZID=GMT:20240219T010000
SUMMARY:Majestic Theatre
DESCRIPTION:DJ SPS\, Black Violin
LOCATION:Majestic Theatre\, Dallas\, Texas
END:VEVENT
END:VCALENDAR