BEGIN:VCALENDAR
VERSION:2.0
PRODID:-//AudioTheme 1.8.0
BEGIN:VEVENT
UID:http://djsps.net/?post_type=audiotheme_gig&#038;p=2655
URL:http://djsps.net/shows/mable-house-barnes-amphitheatre/
DTSTART;TZID=GMT:20240721T000000
SUMMARY:Mable House Barnes Amphitheatre
DESCRIPTION:DJ SPS\, Black Violin
LOCATION:Mable House Barnes Amphitheatre\, Mableton\, Georgia
END:VEVENT
END:VCALENDAR