BEGIN:VCALENDAR
VERSION:2.0
PRODID:-//AudioTheme 1.8.0
BEGIN:VEVENT
UID:http://djsps.net/?post_type=audiotheme_gig&#038;p=2584
URL:http://djsps.net/shows/lyric-theatre-early-show/
DTSTART;VALUE=DATE:20231015
SUMMARY:Lyric Theatre (Early Show)
DESCRIPTION:DJ SPS\, Black Violin
LOCATION:Lyric Theatre (Early Show)\, Birmingham\, Alabama
END:VEVENT
END:VCALENDAR