BEGIN:VCALENDAR
VERSION:2.0
PRODID:-//AudioTheme 1.8.0
BEGIN:VEVENT
UID:http://djsps.net/?post_type=audiotheme_gig&#038;p=2586
URL:http://djsps.net/shows/lyric-theatre-2/
DTSTART;TZID=GMT:20231015T233000
SUMMARY:Lyric Theatre
DESCRIPTION:DJ SPS\, Black Violin
LOCATION:Lyric Theatre\, Birmingham\, Alabama
END:VEVENT
END:VCALENDAR