BEGIN:VCALENDAR
VERSION:2.0
PRODID:-//AudioTheme 1.8.0
BEGIN:VEVENT
UID:http://djsps.net/?post_type=audiotheme_gig&#038;p=2633
URL:http://djsps.net/shows/keybank-state-theatre/
DTSTART;TZID=GMT:20240324T000000
SUMMARY:KeyBank State Theatre
DESCRIPTION:DJ SPS\, Black Violin
LOCATION:KeyBank State Theatre\, Cleveland \, Ohio
END:VEVENT
END:VCALENDAR