BEGIN:VCALENDAR
VERSION:2.0
PRODID:-//AudioTheme 1.8.0
BEGIN:VEVENT
UID:http://djsps.net/?post_type=audiotheme_gig&#038;p=2558
URL:http://djsps.net/shows/keller-auditorium-2/
DTSTART;TZID=GMT:20230326T233000
SUMMARY:Keller Auditorium
DESCRIPTION:DJ SPS\, Black Violin
LOCATION:Keller Auditorium\, Portland\, Oregon
END:VEVENT
END:VCALENDAR