BEGIN:VCALENDAR
VERSION:2.0
PRODID:-//AudioTheme 1.8.0
BEGIN:VEVENT
UID:http://djsps.net/?post_type=audiotheme_gig&#038;p=2612
URL:http://djsps.net/shows/kauffman-center-for-the-performing-arts-4/
DTSTART;TZID=GMT:20240208T010000
SUMMARY:Kauffman Center for the Performing Arts
DESCRIPTION:DJ SPS\, Black Violin
LOCATION:Kauffman Center for the Performing Arts\, Kansas City\, Missouri
END:VEVENT
END:VCALENDAR