BEGIN:VCALENDAR
VERSION:2.0
PRODID:-//AudioTheme 1.8.0
BEGIN:VEVENT
UID:http://djsps.net/?post_type=audiotheme_gig&#038;p=2557
URL:http://djsps.net/shows/hult-center-for-the-performing-arts-5/
DTSTART;TZID=GMT:20230325T233000
SUMMARY:Hult Center for the Performing Arts
DESCRIPTION:DJ SPS\, Black Violin
LOCATION:Hult Center for The Performing Arts\, Eugene\, Oregon
END:VEVENT
END:VCALENDAR