BEGIN:VCALENDAR
VERSION:2.0
PRODID:-//AudioTheme 1.8.0
BEGIN:VEVENT
UID:http://djsps.net/?post_type=audiotheme_gig&#038;p=2561
URL:http://djsps.net/shows/house-of-blues-chicago/
DTSTART;TZID=GMT:20230401T233000
SUMMARY:House of Blues Chicago
DESCRIPTION:DJ SPS\, Black Violin
LOCATION:House of Blues Chicago\, Chicago \, Illinois
END:VEVENT
END:VCALENDAR