BEGIN:VCALENDAR
VERSION:2.0
PRODID:-//AudioTheme 1.8.0
BEGIN:VEVENT
UID:http://djsps.net/?post_type=audiotheme_gig&#038;p=2593
URL:http://djsps.net/shows/genesee-theatre-3/
DTSTART;TZID=GMT:20231022T233000
SUMMARY:Genesee Theatre
DESCRIPTION:DJ SPS\, Black Violin
LOCATION:Genesee Theatre\, Waukegan\, Illinois
END:VEVENT
END:VCALENDAR