BEGIN:VCALENDAR
VERSION:2.0
PRODID:-//AudioTheme 1.8.0
BEGIN:VEVENT
UID:http://djsps.net/?post_type=audiotheme_gig&#038;p=2663
URL:http://djsps.net/shows/fredrick-meijer-gardens-sculpture-park/
DTSTART;TZID=GMT:20240802T000000
SUMMARY:Fredrick Meijer Gardens & Sculpture Park
DESCRIPTION:DJ SPS\, Black Violin
LOCATION:Fredrick Meijer Gardens & Sculpture Park\, Grand Rapids \, Michigan
END:VEVENT
END:VCALENDAR