BEGIN:VCALENDAR
VERSION:2.0
PRODID:-//AudioTheme 1.8.0
BEGIN:VEVENT
UID:http://djsps.net/?post_type=audiotheme_gig&#038;p=2559
URL:http://djsps.net/shows/eccles-theater/
DTSTART;TZID=GMT:20230329T233000
SUMMARY:Eccles Theater
DESCRIPTION:DJ SPS\, Black Violin
LOCATION:Eccles Theater\, Salt Lake City\, Utah
END:VEVENT
END:VCALENDAR