BEGIN:VCALENDAR
VERSION:2.0
PRODID:-//AudioTheme 1.8.0
BEGIN:VEVENT
UID:http://djsps.net/?post_type=audiotheme_gig&#038;p=2605
URL:http://djsps.net/shows/eccles-theater-2/
DTSTART;TZID=GMT:20240202T010000
SUMMARY:Eccles Theater
DESCRIPTION:DJ SPS\, Black Violin
LOCATION:Eccles Theater\, Salt Lake City\, Utah
END:VEVENT
END:VCALENDAR