BEGIN:VCALENDAR
VERSION:2.0
PRODID:-//AudioTheme 1.8.0
BEGIN:VEVENT
UID:http://djsps.net/?post_type=audiotheme_gig&#038;p=2643
URL:http://djsps.net/shows/city-winery-5/
DTSTART;TZID=GMT:20240404T000000
SUMMARY:City Winery
DESCRIPTION:DJ SPS\, Black Violin
LOCATION:City Winery\, 609 LAFAYETTE STREET\, New York City\, New York
END:VEVENT
END:VCALENDAR