BEGIN:VCALENDAR
VERSION:2.0
PRODID:-//AudioTheme 1.8.0
BEGIN:VEVENT
UID:http://djsps.net/?post_type=audiotheme_gig&#038;p=2630
URL:http://djsps.net/shows/brown-theatre-2/
DTSTART;TZID=GMT:20240322T000000
SUMMARY:Brown Theatre
DESCRIPTION:DJ SPS\, Black Violin
LOCATION:Brown Theatre\, Louisville\, Kentucky
END:VEVENT
END:VCALENDAR