BEGIN:VCALENDAR
VERSION:2.0
PRODID:-//AudioTheme 1.8.0
BEGIN:VEVENT
UID:http://djsps.net/?post_type=audiotheme_gig&#038;p=2626
URL:http://djsps.net/shows/blue-gate-performing-arts-center/
DTSTART;TZID=GMT:20240320T000000
SUMMARY:Blue Gate Performing Arts Center
DESCRIPTION:DJ SPS\, Black Violin
LOCATION:Blue Gate Performing Arts Center\, Shipshewana\, Indiana
END:VEVENT
END:VCALENDAR