BEGIN:VCALENDAR
VERSION:2.0
PRODID:-//AudioTheme 1.8.0
BEGIN:VEVENT
UID:http://djsps.net/?post_type=audiotheme_gig&#038;p=2613
URL:http://djsps.net/shows/bloomington-center-for-the-performing-arts-4/
DTSTART;TZID=GMT:20240209T010000
SUMMARY:Bloomington Center for the Performing Arts
DESCRIPTION:DJ SPS\, Black Violin
LOCATION:Bloomington Center for the Performing Arts\, Bloomington \, Illinois
END:VEVENT
END:VCALENDAR