BEGIN:VCALENDAR
VERSION:2.0
PRODID:-//AudioTheme 1.8.0
BEGIN:VEVENT
UID:http://djsps.net/?post_type=audiotheme_gig&#038;p=2566
URL:http://djsps.net/shows/blance-m-touhill-performing-arts-center-2/
DTSTART;TZID=GMT:20230403T233000
SUMMARY:Blance M. Touhill Performing Arts Center
DESCRIPTION:DJ SPS\, Black Violin
LOCATION:Blance M. Touhill Performing Arts Center\, St. Louis\, Missouri
END:VEVENT
END:VCALENDAR