BEGIN:VCALENDAR
VERSION:2.0
PRODID:-//AudioTheme 1.8.0
BEGIN:VEVENT
UID:http://djsps.net/?post_type=audiotheme_gig&#038;p=2567
URL:http://djsps.net/shows/birchmere/
DTSTART;TZID=GMT:20230831T233000
SUMMARY:Birchmere
DESCRIPTION:DJ SPS\, Black Violin
LOCATION:Birchmere\, Alexandria\, Virginia
END:VEVENT
END:VCALENDAR