BEGIN:VCALENDAR
VERSION:2.0
PRODID:-//AudioTheme 1.8.0
BEGIN:VEVENT
UID:http://djsps.net/?post_type=audiotheme_gig&#038;p=2644
URL:http://djsps.net/shows/bergen-performing-arts-center-2/
DTSTART;TZID=GMT:20240405T000000
SUMMARY:Bergen Performing Arts Center
DESCRIPTION:DJ SPS\, Black Violin
LOCATION:Bergen Performing Arts Center\, Englewood\, New Jersey
END:VEVENT
END:VCALENDAR