BEGIN:VCALENDAR
VERSION:2.0
PRODID:-//AudioTheme 1.8.0
BEGIN:VEVENT
UID:http://djsps.net/?post_type=audiotheme_gig&#038;p=2621
URL:http://djsps.net/shows/713-music-hall/
DTSTART;TZID=GMT:20240218T010000
SUMMARY:713 Music Hall
DESCRIPTION:DJ SPS\, Black Violin
LOCATION:713 Music Hall\, Houston\, Texas
END:VEVENT
END:VCALENDAR